BEGIN:VCALENDAR
VERSION:2.0
PRODID:-//Sluisfabriek - ECPv6.15.20//NONSGML v1.0//EN
CALSCALE:GREGORIAN
METHOD:PUBLISH
X-WR-CALNAME:Sluisfabriek
X-ORIGINAL-URL:https://sluisfabriek.nl
X-WR-CALDESC:Evenementen voor Sluisfabriek
REFRESH-INTERVAL;VALUE=DURATION:PT1H
X-Robots-Tag:noindex
X-PUBLISHED-TTL:PT1H
BEGIN:VTIMEZONE
TZID:Europe/Amsterdam
BEGIN:DAYLIGHT
TZOFFSETFROM:+0100
TZOFFSETTO:+0200
TZNAME:CEST
DTSTART:20220327T010000
END:DAYLIGHT
BEGIN:STANDARD
TZOFFSETFROM:+0200
TZOFFSETTO:+0100
TZNAME:CET
DTSTART:20221030T010000
END:STANDARD
BEGIN:DAYLIGHT
TZOFFSETFROM:+0100
TZOFFSETTO:+0200
TZNAME:CEST
DTSTART:20230326T010000
END:DAYLIGHT
BEGIN:STANDARD
TZOFFSETFROM:+0200
TZOFFSETTO:+0100
TZNAME:CET
DTSTART:20231029T010000
END:STANDARD
BEGIN:DAYLIGHT
TZOFFSETFROM:+0100
TZOFFSETTO:+0200
TZNAME:CEST
DTSTART:20240331T010000
END:DAYLIGHT
BEGIN:STANDARD
TZOFFSETFROM:+0200
TZOFFSETTO:+0100
TZNAME:CET
DTSTART:20241027T010000
END:STANDARD
END:VTIMEZONE
BEGIN:VEVENT
DTSTART;TZID=Europe/Amsterdam:20230223T193000
DTEND;TZID=Europe/Amsterdam:20230223T213000
DTSTAMP:20260423T024408
CREATED:20230218T125922Z
LAST-MODIFIED:20230218T125922Z
UID:274-1677180600-1677187800@sluisfabriek.nl
SUMMARY:Rouwcafé
DESCRIPTION:Een plek waar je even samen kunt zijn\, een kopie koffie kunt drinken\, een praatje kunt maken\, eventueel verdriet kunt delen\, informatie kunt kriigen\, een luisterend oor kunt vinden\, ervaringen kunt uitwisselen\, vragen kunt stellen\, gewoon mag zijn en misschien zelfs vriendschappen kunt sluiten. Het rouwcafé is er voor iedereen die te maken heeft met verlies en rouw\, in de breedste zin van het woord. \nDonderdag 23 februari 2023\nInloop: 19.30 uur aanvang 20.00 uur\nDe Sluisfabriek\, Tussendiepen 6\, 9206 AD Drachten \nDeelname is vrijblijvend en gratis.\nWij zouden het op prijs stellen uw aanmelding\, met hoeveel personen u komt\, via de e-mail te ontvangen: info@sluisfabriek.nl \nOrganisatie is een samenwerking van\nErna Jansen Uitvaartzorg en de Sluisfabriek
URL:https://sluisfabriek.nl/event/rouwcafe/
LOCATION:Sluisfabriek\, Tussendiepen 6\, Drachten\, 9206 AD\, Nederland
ATTACH;FMTTYPE=image/jpeg:https://sluisfabriek.nl/wp-content/uploads/2023/02/329256445_850912639315697_1639901483712101590_n.jpg
END:VEVENT
END:VCALENDAR