BEGIN:VCALENDAR
VERSION:2.0
PRODID:-//Sluisfabriek - ECPv6.15.20//NONSGML v1.0//EN
CALSCALE:GREGORIAN
METHOD:PUBLISH
X-WR-CALNAME:Sluisfabriek
X-ORIGINAL-URL:https://sluisfabriek.nl
X-WR-CALDESC:Evenementen voor Sluisfabriek
REFRESH-INTERVAL;VALUE=DURATION:PT1H
X-Robots-Tag:noindex
X-PUBLISHED-TTL:PT1H
BEGIN:VTIMEZONE
TZID:Europe/Amsterdam
BEGIN:DAYLIGHT
TZOFFSETFROM:+0100
TZOFFSETTO:+0200
TZNAME:CEST
DTSTART:20220327T010000
END:DAYLIGHT
BEGIN:STANDARD
TZOFFSETFROM:+0200
TZOFFSETTO:+0100
TZNAME:CET
DTSTART:20221030T010000
END:STANDARD
BEGIN:DAYLIGHT
TZOFFSETFROM:+0100
TZOFFSETTO:+0200
TZNAME:CEST
DTSTART:20230326T010000
END:DAYLIGHT
BEGIN:STANDARD
TZOFFSETFROM:+0200
TZOFFSETTO:+0100
TZNAME:CET
DTSTART:20231029T010000
END:STANDARD
BEGIN:DAYLIGHT
TZOFFSETFROM:+0100
TZOFFSETTO:+0200
TZNAME:CEST
DTSTART:20240331T010000
END:DAYLIGHT
BEGIN:STANDARD
TZOFFSETFROM:+0200
TZOFFSETTO:+0100
TZNAME:CET
DTSTART:20241027T010000
END:STANDARD
END:VTIMEZONE
BEGIN:VEVENT
DTSTART;TZID=Europe/Amsterdam:20230306T193000
DTEND;TZID=Europe/Amsterdam:20230306T213000
DTSTAMP:20260422T201907
CREATED:20230220T084521Z
LAST-MODIFIED:20230220T084703Z
UID:282-1678131000-1678138200@sluisfabriek.nl
SUMMARY:Theatervoorstelling BINGO!
DESCRIPTION:Tine leidt de bingo in een buurthuis. Ze komt vandaag te laat. Tine verontschuldigt zich en begint onbedoeld over haar pas overleden moeder\, met wie ze al tien jaar geen contact had. Net zag ze haar ouderlijk huis en ontdekte de armzalige omstandigheden waaronder haar moeder blijkbaar woonde. Terwijl Tine haar best doet om op vrolijke wijze de bingo tot een goed einde te brengen\, ontleedt ze de relatie met haar moeder. \n\n\n \n\n\nBij BINGO! zit je met je kopje koffie of thee en een bingokaart met anderen aan een tafel. Vlak voor en tussen de tafels door speelt Tamara Schoppert deze door Herman van de Wijdeven geschreven theatertekst.\n\n\n \n\n\nWanneer\, waar\, kaarten…..\n\n\n– Wanneer: Zondag 5 maart\, 15.00 uur. Maandag 6 maart 19.30 uur\n\n\n– Waar: Sluisfabriek\, Tussendiepen 6 Drachten\n\n\n– Kaarten (á € 20\,-) bestellen/reserveren via: info@sluisfabriek.nl \n\n\n \n\n\nDe pers over Bingo!\n\n\n‘Armoede maakt iemand van je die je niet wilt zijn’. Trouw *****\n\n\n‘Een parel van een voorstelling over armoede’. Omrop Fryslan\n\n\n‘Theaterverhalen over de bron van jezelf’ Friesch Dagblad *****
URL:https://sluisfabriek.nl/event/theathervoorstelling-bingo/
LOCATION:Sluisfabriek\, Tussendiepen 6\, Drachten\, 9206 AD\, Nederland
ATTACH;FMTTYPE=image/jpeg:https://sluisfabriek.nl/wp-content/uploads/2023/02/A5-flyer-Bingo_SLUISFABRIEK-DRACHTEN-1.jpg
END:VEVENT
END:VCALENDAR