BEGIN:VCALENDAR
VERSION:2.0
PRODID:-//Sluisfabriek - ECPv6.15.20//NONSGML v1.0//EN
CALSCALE:GREGORIAN
METHOD:PUBLISH
X-WR-CALNAME:Sluisfabriek
X-ORIGINAL-URL:https://sluisfabriek.nl
X-WR-CALDESC:Evenementen voor Sluisfabriek
REFRESH-INTERVAL;VALUE=DURATION:PT1H
X-Robots-Tag:noindex
X-PUBLISHED-TTL:PT1H
BEGIN:VTIMEZONE
TZID:Europe/Amsterdam
BEGIN:DAYLIGHT
TZOFFSETFROM:+0100
TZOFFSETTO:+0200
TZNAME:CEST
DTSTART:20240331T010000
END:DAYLIGHT
BEGIN:STANDARD
TZOFFSETFROM:+0200
TZOFFSETTO:+0100
TZNAME:CET
DTSTART:20241027T010000
END:STANDARD
BEGIN:DAYLIGHT
TZOFFSETFROM:+0100
TZOFFSETTO:+0200
TZNAME:CEST
DTSTART:20250330T010000
END:DAYLIGHT
BEGIN:STANDARD
TZOFFSETFROM:+0200
TZOFFSETTO:+0100
TZNAME:CET
DTSTART:20251026T010000
END:STANDARD
BEGIN:DAYLIGHT
TZOFFSETFROM:+0100
TZOFFSETTO:+0200
TZNAME:CEST
DTSTART:20260329T010000
END:DAYLIGHT
BEGIN:STANDARD
TZOFFSETFROM:+0200
TZOFFSETTO:+0100
TZNAME:CET
DTSTART:20261025T010000
END:STANDARD
END:VTIMEZONE
BEGIN:VEVENT
DTSTART;TZID=Europe/Amsterdam:20250126T150000
DTEND;TZID=Europe/Amsterdam:20250126T173000
DTSTAMP:20260420T164656
CREATED:20250105T195648Z
LAST-MODIFIED:20250107T093814Z
UID:422-1737903600-1737912600@sluisfabriek.nl
SUMMARY:Lezing Anne-Goaitske Breteler
DESCRIPTION:Op zondag 26 januari geeft schrijfster en antropologe Anne-Goaitske Breteler bij de Sluisfabriek een interessante lezing aan de hand van haar boek  De laatste dagen van de dorpsgek (Prometheus\, oktober 2024). \nHierin onderzoekt ze hoe er door de eeuwen heen is omgegaan met geestelijke gezondheid. Hoe kan het dat er aanzienlijk veel suïcides op het platteland voorkomen\, in tegenstelling tot een relatief lage aanspraak op de GGZ? Waar is de dorpsgek gebleven? En wat was de grens tussen ‘krankzinnig’ gedrag of ‘net anders’ zijn? In de lezing vertaalt ze haar bevindingen door filmbeelden\, foto’s\, maar ook gedeelde ervaringen op te halen en te tonen. Vaak ligt het verhaal dicht bij de mensen zelf\, en is het juist de binding met de grond en de agrarische cultuur die misschien nog wel verder doorwerkt in de huidige plattelander\, dan eerder gedacht. \nTijdens deze middag zal Jan Kuipers Alma ook liedjes van zijn laatste album ‘Niets aan der hand’ zingen. \nKosten zijn € 15 en is inclusief een koffie of thee bij entree. \nWil je ook deze lezing bijwonen? Stuur dan een bericht naar info@sluisfabriek.nl
URL:https://sluisfabriek.nl/event/lezing-anne-goaitske-breteler/
LOCATION:Sluisfabriek\, Tussendiepen 6\, Drachten\, 9206 AD\, Nederland
ATTACH;FMTTYPE=image/jpeg:https://sluisfabriek.nl/wp-content/uploads/2025/01/Anne-Goaitske-Breteler_1204-scaled.jpg
END:VEVENT
END:VCALENDAR